BEGIN:VCALENDAR
VERSION:2.0
PRODID:-//Library Market//iCal Export//EN
BEGIN:VEVENT
SUMMARY:Library Commission Meeting
UID:19295
DTSTAMP:20260420T142900Z
DTSTART:20260521T230000Z
DTEND:20260522T000000Z
LOCATION:Case Memorial Library, 176 Tyler City Rd., Orange, CT 06477, Unit
 ed States
ROOM: Conference Room
DESCRIPTION:
URL:https://casememorial.librarycalendar.com/event/library-commission-meet
 ing-19295
END:VEVENT
END:VCALENDAR
