BEGIN:VCALENDAR
VERSION:2.0
PRODID:-//Library Market//iCal Export//EN
BEGIN:VEVENT
SUMMARY:Memorial Day Craft
UID:18973
DTSTAMP:20260423T161400Z
DTSTART:20260521T200000Z
DTEND:20260521T204500Z
LOCATION:Case Memorial Library, 176 Tyler City Rd., Orange, CT 06477, Unit
 ed States
ROOM: Craft Room
DESCRIPTION:Make your own patriotic keychains with diamond art (similar to
  bedazzling)! Whether you want to deck out your backpack or give a gift to
  a hero, these keychains are the perfect way to show your spirit.
URL:https://casememorial.librarycalendar.com/event/save-childrens-18973
END:VEVENT
END:VCALENDAR
